BEGIN:VCALENDAR
METHOD:PUBLISH
VERSION:2.0
PRODID:-//Eventilla iCal Syndication//NONSGML Liana//EN
BEGIN:VEVENT
UID:2k2Q5@eventilla.com
DTSTAMP:20221011T060000Z
DTSTART:20221011T060000Z
DTEND:20221011T090000Z
SUMMARY:Yritysten sosiaalinen vastuu - mitä\, miksi\, miten?
DESCRIPTION:Keskuskauppakamari järjestää yritysten sosiaaliseen vastuuseen liittyviä koulutuksia\, joissa opastetaan käytännönläheisesti sosiaalisen vastuun edistämiseen. Koulutus soveltuu kaikille yrityksille ja yhteisöille toimialaan tai kokoon katsomatta. Osallistujilta ei edellytetä erityistä vastuullisuusosaamista.\n\n\n\n\nKoulutuksessa saat vastauksia muun muassa seuraaviin kysymyksiin:\n- Mitä sosiaalinen vastuu ja ihmisoikeudet tarkoittavat yritystoiminnassa?- Miksi sosiaalinen vastuu on yksi keskeinen yritystoiminnan menestystekijä tänä päivänä?- Mitkä ovat sidosryhmien (työntekijät\, asiakkaat\, rahoittajat) vaatimukset tänä päivänä yrityksen sosiaalisen vastuun toteuttamiselle?- Mitä lainsäädäntö ja erilaiset viitekehykset edellyttävät yrityksiltä?- Mitkä ovat yritystoiminnan vaikutukset ihmisiin?- Millaisia ihmisoikeusriskejä voi tulla vastaan Suomessa? Entä kansainvälisissä yhteyksissä?- Miten selvitän oman yrityksen ihmisoikeusvaikutuksia ja mitä mahdollisille havainnoille tulisi tehdä?- Miten sosiaalisen vastuun asioista kannattaa viestiä sisäisesti ja ulkoisesti?\nLisäksi kuulet inspiroivan case-esimerkin yritysten sosiaalisen vastuun teoista ja hyödyistä liiketoiminnalle.\n\n\n\n\nKoulutus on suunnattu erityisesti yritysten johdolle ja hallinnosta\, henkilöstöstä\, viestinnästä sekä liiketoiminnasta vastaaville sekä vastuullisuuden parissa työskenteleville asiantuntijoille.\nAsiantuntijoina toimivat vastuullisuusasiantuntija Anne Vanhala\, Keskuskauppakamari ja Human Rights Lead Suvi Kuusi\, Deloitte Suomi.\nTule mukaan ja inspiroidu sosiaalisen vastuun merkityksestä ja hyödyistä liiketoiminnalle!\nSUUNTAA ANTAVA OHJELMA\n9.00 Tervetuloa\nMitä yritysten sosiaalinen vastuu tarkoittaa?Anne Vanhala\, vastuullisuusasiantuntija\, Keskuskauppakamari\nCase NesteNina Norjama\, Head of Human Rights\, Neste\n10.35 Tauko\n10.45 Ihmisoikeusvaikutuksia esimerkkitapauksissaMiten lähteä liikkeelle sosiaalisen vastuun kysymyksissä?Suvi Kuusi\, Human Rights Lead\, Deloitte Suomi\nQ&A\n12.00 Koulutus päättyy\n \nKoulutus toteutetaan etäyhteyden välityksellä. Toimitamme webinaarilinkin ilmoittautuneille päivää ennen tilaisuutta.\n**************************************************Lisätietoja: Sisältöön liittyvissä kysymyksissä voit olla yhteydessä vastuullisuusasiantuntija Anne Vanhalaan\, anne.vanhala@chamber.fi\, puh. 050 339 1625\nJärjestelyihin liittyvissä kysymyksissä voit olla yhteydessä tapahtumatuottaja Anne Pakkaseen\, anne.pakkanen@chamber.fi\, puh. 045 898 6972.Peruutusehdot: Kuluton peruutus on mahdollinen viimeistään seitsemän vuorokautta ennen tilaisuutta. Mikäli peruutus tapahtuu myöhemmin kuin seitsemän vuorokautta ennen tilaisuutta\, veloitetaan koko koulutuksen hinta.\nPidätämme oikeuden muutoksiin.
LOCATION:Verkkokoulutus
URL:http://tapahtumat.kauppakamari.fi/sosiaalinen_vastuu_11102022
END:VEVENT
END:VCALENDAR
