BEGIN:VCALENDAR
METHOD:PUBLISH
VERSION:2.0
PRODID:-//Eventilla iCal Syndication//NONSGML Liana//EN
BEGIN:VEVENT
UID:6P6zp@eventilla.com
DTSTAMP:20231213T063000Z
DTSTART:20231213T063000Z
DTEND:20231213T073000Z
SUMMARY:Ihmisoikeustietoisku - maksuton 13.12.2023
DESCRIPTION:\nTurvallinen ja syrjimätön organisaatioTutustu Ihmisoikeussitoumukseen -tietoisku 13.12.2023 klo 8.30Keskuskauppakamari järjestää maksuttoman Teams-tietoiskun\, jossa voit tutustua Keskuskauppakamarin ihmisoikeusjärjestelmään ja Ihmisoikeussitoumukseen. \nKerromme kuinka yrityksesi voi olla ihmisoikeusvastuun edelläkävijä\, mitä hyötyjä Ihmisoikeussitoumuksesta yrityksellesi on ja mitä Ihmisoikeussitoumus edellyttää.Asiantuntijana toimii Keskuskauppakamarin vastuullisuusasiantuntija Anne Vanhala.\nTietoisku on maksuton\, mutta edellyttää ennakkoilmoittautumista.Ihmisoikeussitoumus kannattaa\, koska se• auttaa organisaatiota ymmärtämään mitä ihmisoikeusvastuu on ja mitä se tarkoittaa käytännössä• auttaa viestimään vastuullisuustoimista• tarjoaa organisaatiollesi konkreettisen työkalun vastuullisuustyön käynnistämiseen ja lisää liikentoimintamahdollisuuksia• tukee strategisia kumppanuuksia\, vaikuttaa myönteisesti organisaation suorituskykyyn sekä• jäsentää ihmisoikeuksien johtamista organisaatiossasi ja auttaa vastaamaan vastuullisuutta koskeviin odotuksiin.
LOCATION:Teams-verkkotapahtuma\, Suomi
URL:http://tapahtumat.kauppakamari.fi/ihmisoikeus_13122023
END:VEVENT
END:VCALENDAR
