BEGIN:VCALENDAR
METHOD:PUBLISH
VERSION:2.0
PRODID:-//Eventilla iCal Syndication//NONSGML Liana//EN
BEGIN:VEVENT
UID:ErLKv@eventilla.com
DTSTAMP:20240822T053000Z
DTSTART:20240822T053000Z
DTEND:20240822T080000Z
SUMMARY:Keski- ja Itä-Euroopan markkinoilla kasvu jatkuu vahvana – markkinamahdollisuuksia suomalaisille yrityksille
DESCRIPTION:Aika              22.8.2024 klo 9–11\, aamukahvi tarjolla klo 8.30\nPaikka          Microsoft online tai Keskuskauppakamari\, Alvar Aallon katu 5 C\, 00100 HelsinkiIlmoittautuminenTilaisuus on maksuton\, mutta vaatii ilmoittautumisen 20.8.2022 mennessä.No-show-maksu 20.8.2024 jälkeen tapahtuneista peruutuksista on 25 euroa.\nKeski- ja Itä-Euroopan markkinoilla talouskasvu jatkuu vahvana tulevina vuosina. Suomalaisten yritysten vienti ja investoinnit kasvavat. Markkinoilla on jatkuvasti tarjolla paljon mahdollisuuksia myös liiketoiminnan aloittamiseksi ja kasvun lisäämiseksi.\nTervetuloa kuulemaan Suomen suurlähettiläiden ja Business Finlandin katsauksia\, keskustele­maan ja verkottumaan.Tilaisuuden järjestävät yhteistyössä Business Finland\, Enterprise Europe Network\, Suomi-Keski- ja Itä-Euroopan maiden kauppayhdistys ja Helsingin seudun kauppakamari.\nOhjelma\n09.00             Tilaisuuden avaus            Antti Rahikka\, Business Finland ja Anne Hatanpää\, Keskuskauppakamari\n09.05             HerätysAntti Rahikka\, Director\, Central East Europe (Region Head)\, Business Finland\n09.15             Kroatia ja Bosnia-HertsegovinaSuurlähettiläs Kalle Kankaanpää\n09.25             Tshekki ja SlovakiaSuurlähettiläs Pasi Tuominen\n09.35             Romania ja MoldovaSuurlähettiläs Leena Liukkonen\n09.45             PuolaSuurlähettiläs Päivi Laine\n09.55             Serbia\, Montenegro ja Pohjois-MakedoniaSuurlähettiläs Niklas Lindqvist\n10.05             UkrainaSuurlähettiläs Antti Vänskä\n10.15Unkari ja SloveniaSuurlähettiläs Pertti Anttinen  \n10.25KosovoSuurlähettiläs Matti Nissinen10.35Keskustelu & Q & A\n10.35 – 11.00Tilaisuus päättyyJanne Sykkö\, Erityisasiantuntija\, Suomi-Keski- ja Itä-Euroopan maiden kauppayhdistys\nTERVETULOA.\n \n \n \n \nKuva: Pixabay\n 
LOCATION:Keskuskauppakamari\, Alvar Aallon katu 5 C\, 00100\, HELSINKI
URL:http://tapahtumat.kauppakamari.fi/event/ErLKv
END:VEVENT
END:VCALENDAR
