BEGIN:VCALENDAR
METHOD:PUBLISH
VERSION:2.0
PRODID:-//Eventilla iCal Syndication//NONSGML Liana//EN
BEGIN:VEVENT
UID:GG936@eventilla.com
DTSTAMP:20231031T070000Z
DTSTART:20231031T070000Z
DTEND:20231031T084500Z
SUMMARY:Osaajapula vaivaa - apua kansainvälisistä osaajista - maksuton tietoisku
DESCRIPTION:Kaipaako yrityksesi kipeästi osaavaa työvoimaa? Onko kilpailu osaajista kiristynyt ja hyviä tekijöitä on entistä vaikeampi löytää? Oletko harkinnut kansainvälisen osaajan rekrytointia\, mutta alkuun pääseminen tuntuu hankalalta? Tämän tietoiskun jälkeen tiedät miltä osaajapulatilanne näyttää Suomessa ja miten lähteä edistämään kansainvälisten osaajien rekrytointia.\n \nTietoisku antaa konkreettisia vinkkejä\, miten löytää kansainvälisiä osaajia ja millaista apua on tarjolla kansainvälisten osaajien rekrytoimiseen. Yksin ei tarvitse jäädä\, auttavia tahoja löytyy yksityiseltä sektorilta\, julkiselta sektorilta ja myös kolmannelta sektorilta. Tietoisku myös auttaa ymmärtämään keskeiset asiat kansainvälisiin osaajiin liittyvistä lupakysymyksistä (oleskelulupa jne.). Tilaisuuden alussa käydään läpi tämänhetkistä osaajapulatilannetta ja pääministeri Orpon hallitusohjelman mahdollisia vaikutuksia kansainvälisten osaajien rekrytointiin.\nTietoiskussa kuulemme lyhyet puheenvuorot TE-palveluista\, Work in Finlandilta\, Startup Refugeesilta\, StaffPointilta ja Maahanmuuttovirastolta. Näiden lisäksi kuullaan Keskuskauppakamarilta tilannekatsaus osaajapulatilanteesta ja tiivis analyysi hallitusohjelman maahanmuuttopolitiikasta.\nOHJELMA\n9.00 Tilaisuuden avaus\n9.05 Osaajapulatilanne ja hallitusohjelma kansainvälisen rekrytoinnin näkökulmastaVaratoimitusjohtaja Johanna Sipola\, Keskuskauppakamari\n9.25 Tietoiskuja: Mistä apua osaajapulaan?\nWork in FinlandService Manager Alma Olanko\, Business Finland\nTE-palvelujen tuki ja apu kansainväliseen rekrytointiinJohtava asiantuntija Jenni Siponen\, TE-toimisto\nStartup Refugees - Silta kansainvälisiin osaajiin- Your bridge to international talentsNetwork Coordinator Salla-Maria Korhonen\, Startup RefugeesCommunity Coordinator & IT Specialist Mustafa Aal-Sahek\, Startup Refugees\nYhdessä kohti kasvua - kansainväliset osaajatTogether towards growth - International talentsHead of International Services Jenny von Knorring\, StaffPoint-konserni\nTietoisku työluvista työnantajilleAsiakkuusasiantuntija Teemu Ihalainen\, Lupa- ja kansalaisuusyksikkö\, Maahanmuuttovirasto\n10.45 Tilaisuuden päätös\nTilaisuus toteutetaan Teams-etäyhteydellä. Ilmoittautuneille lähetetään osallistumislinkki päivää ennen tapahtumaa.\nVerkkotapahtuma on maksuton\, mutta edellyttää ennakkoilmoittautumista. Ilmoittautumiset 30.10.2023 mennessä.\nLämpimästi tervetuloa!\n \nLisätietoja:Varatoimitusjohtaja Johanna Sipola\, johanna.sipola@chamber.fi\n \n \nYHTEISTYÖSSÄ\n \n\n\n\n\n\n\n\n\n \n \n \n\n\n\n\n \n\n\n
LOCATION:Verkkotapahtuma\, Suomi
URL:http://tapahtumat.kauppakamari.fi/osaajapula_31102023
END:VEVENT
END:VCALENDAR
