BEGIN:VCALENDAR
METHOD:PUBLISH
VERSION:2.0
PRODID:-//Eventilla iCal Syndication//NONSGML Liana//EN
BEGIN:VEVENT
UID:GG9EX@eventilla.com
DTSTAMP:20240912T090000Z
DTSTART:20240912T090000Z
DTEND:20240912T153000Z
SUMMARY:Suuri liikennepäivä 2024
DESCRIPTION:Keskuskauppakamarin Suuri liikennepäivä on vuosittainen foorumi\, jossa käsitellään liikennettä ja logistiikkaa koskevia ajankohtaisia teemoja ja tulevaisuuden näkymiä keskiössä Suomen kilpailukyvyn parantaminen. Tämän vuoden teemana on logistiikka yritysten kilpailukykytekijänä.\nTapahtuma on suunnattu vienti- ja tuontiyrityksille sekä kansainvälisillä markkinoilla toimivien ja sinne aikovien yritysten johdolle ja asiantuntijoille\, liikenne- ja digialoilla toimivien yritysten johdolle ja asiantuntijoille\, päättäjille sekä vaikuttajille.\n \nOHJELMA\nTorstai 12.9.2024\nScandic Grand Central + livestream\nTeema: Logistiikka yritysten kilpailukykytekijänä\nPäivän juontaa toimittaja Tapio Nurminen \n \n11.45-12.45    Lounas\n13.00-13.05    Tilaisuuden avaus\n13.05–13.15   Tervetulosanat                                                                                                                                                               \n                         Toimitusjohtaja Juho Romakkaniemi\, Keskuskauppakamari\n13.15–13.25   Liikenne- ja viestintäministeriön tervehdys                  \n                          Osastopäällikkö Olli-Pekka Rantala \, Liikenne- ja viestintäministeriö\n13.25–13.40   Yleiskatsaus EU:n liikennepolitiikkaan - Mitä edessä tällä kaudella?             \n                          Tapio Nurmisen haastattelussa europarlamentaarikko\, liikennevaliokunnan jäsen Merja Kyllönen\n13.50–14.05   Saavutettavuuden ja logistiikkakustannusten merkitys yrityksille \n                          Toimitusjohtaja Ville Kopra\, Versowood Oy \n14.05-14.25    Logistiikan digitalisaatio kiihdytyskaistalle \n                          Ekosysteemi- ja teknologiajohtaja Janne Lautanala\, Fintraffic\n14.25-14.50    Keskustelu: Saavutettavuus ja kilpailukyky – miten logistiikan kilpailukykyä voidaan parantaa? \n                          Teemana muun muassa väylien kunto\, logistiikan pullonkaulat\, raideleveyden muutosmahdollisuudet ja kansainvälinen\n                          saavutettavuus. \n                          Logistiikkapäällikkö Alina Koskela\, Metsäteollisuus ry \n                          Johtava asiantuntija Jarkko Rantala\, AFRY \n                          Apulaisprofessori Tomi Solakivi\, Turun yliopisto\n14.50-15.20    Tauko\n15.20-15.50    Future challenges in the aviation industry \n                          Tapio Nurminen interviews CEO Geir Karlsen from Norwegian and CEO Kimmo Mäki from Finavia Oyj\n                           Kommenttipuheenvuoro\, Sami Lahdensuo\, Vice President\, Government and Institutional Relations\, Finnair Oyj\n15.50-16.00     Datan voimin maalla\, merellä ja ilmassa \n                           Tapio Nurmisen haastattelussa toiminnanjohtaja Marko Forsblom\, ITS Finland\n16.00-16.25     Next generation road charging – experiences from Europe \n                          Solution Consultant Lubor Lancos\, Kapsch TrafficCom AB\n16.25-17.00    Liikenteen verotuksen ja rahoituksen tulevaisuus - paneelikeskustelu \n                          Toimitusjohtaja Tero Kallio\, Autotuojat ja -teollisuus ry  \n                          Kansanedustaja\, eduskunnan liikenne- ja viestintävaliokunnan puheenjohtaja Jouni Ovaska\n17.00-17.15    Päivän yhteenveto\n17.15-18.45    Tilaisuuden päätteeksi cocktailit\n \nKUMPPANI\n\nTUOTANTOKUMPPANI\n\nPeruutusehdot: Kuluton peruutus on mahdollinen viimeistään seitsemän vuorokautta ennen seminaaripäivää. Peruutuksen tapahtuessa tämän jälkeen\, veloitetaan koko seminaarin hinta. Paikan voi tarvittaessa siirtää toiselle osallistujalle. Laskutus tehdään tapahtuman jälkeen.\nSeuraamme tapahtumiemme hiilijalanjälkeäKeskuskauppakamarin Ilmastositoumuksen mukaisesti olemme sitoutuneet tavoittelemaan hiilineutraaliutta vuoteen 2035 mennessä. Seuraamme tapahtumiemme hiilijalanjälkeä\, pyrimme vähentämään päästöjä ja kompensoimme tapahtumasta aiheutuneet päästöt. Tämän vuoksi kysymme sinulta ilmoittautumisen yhteydessä\, kuinka saavut tapahtumaan. Autathan meitä tekemään hiilijalanjäljestä mahdollisimman pienen käyttämällä mahdollisuuksien mukaan julkisia liikennevälineitä.
LOCATION:00100\, Helsinki
URL:http://tapahtumat.kauppakamari.fi/slp_2024
END:VEVENT
END:VCALENDAR
