BEGIN:VCALENDAR
METHOD:PUBLISH
VERSION:2.0
PRODID:-//Eventilla iCal Syndication//NONSGML Liana//EN
BEGIN:VEVENT
UID:WLOze@eventilla.com
DTSTAMP:20240411T053000Z
DTSTART:20240411T053000Z
DTEND:20240411T063000Z
SUMMARY:Vastuullisuustietoisku - maksuton 11.4.2024
DESCRIPTION:Yritysvastuu on olennainen osa liiketoimintaa niin strategisella\, operatiivisella kuin arvojen tasoilla. Yritysvastuu on yhdistelmä tavoitteita\, konkreettisia tekoja ja viestintää. Vastuullinen yritys ottaa toiminnassaan huomioon vaikutuksensa ympäristöön\, ihmisiin ja yhteiskuntaan. Vastuullinen yritys on kilpailukykyinen edelläkävijä. \nKeskuskauppakamari haluaa osaltaan varmistaa\, että suomalaiset yritykset ovat vastuullisuuden suunnannäyttäjiä koko maailmassa. Maksuttomassa tietoiskussa tutustut Keskuskauppakamarin ja kauppakamarien tarjoamiin vastuullisuuden työkaluihin. Asiantuntijana toimii Keskuskauppakamarin vastuullisuusasiantuntija Anne Vanhala. \nYritysten ilmastotyön tueksi: Hiilijalanjälki laskettu -merkki\, Ilmastositoumus ja Hiilijalanjäljen laskentakoulutukset \nYritysten sosiaalisen vastuun tueksi: Turvallinen\, syrjimätön ja vastuullinen organisaatio: Ihmisoikeussitoumus \nJohdon koulutusohjelmat:Yritysjohdon vastuullisuusvalmennus: neljä koulutusmoduulia\, oman organisaation olennaisuusarvio tärkeimmistä vastuullisuusteemoista\, verkostoitumista ja sparrausta monipuolisen osallistujajoukon kesken  \nVastuullisuudesta kilpailuetua – pk-yrityksen vastuullisuusvalmennus (yhteistyössä alueellisten kauppakamareiden kanssa): kaksi koulutusmoduulia\, oman organisaation olennaisuusarvio tärkeimmistä vastuullisuusteemoista\, verkostoitumista ja sparrausta monipuolisen osallistujajoukon kesken \nSuuri yritysvastuupäivä \n \nTietoisku on maksuton\, mutta edellyttää ennakkoilmoittautumista. Tietoiskussa on varattu aikaa osallistujien kysymyksille.
LOCATION:Teams-verkkotapahtuma\, Suomi
URL:http://tapahtumat.kauppakamari.fi/vastuullisuustietoisku_11042024
END:VEVENT
END:VCALENDAR
