BEGIN:VCALENDAR
METHOD:PUBLISH
VERSION:2.0
PRODID:-//Eventilla iCal Syndication//NONSGML Liana//EN
BEGIN:VEVENT
UID:ZPaoQ@eventilla.com
DTSTAMP:20231108T080000Z
DTSTART:20231108T080000Z
DTEND:20231108T140000Z
SUMMARY:Päästövähennyskoulutus 08.11.2023
DESCRIPTION:Päästövähennyskoulutus 08.11.2023 klo 10 - 16\nToteutetaan Teams-etäyhteyden välityksellä.\nIlmastotyö lähtee nykyhetken päästöjen selvittämisestä ja hiilijalanjäljen laskemisesta. Miten voit tunnistaa yrityksesi päästölähteet ja kuinka voit laskea yrityksesi hiilijalanjäljen? Miten voit laatia tiekartan päästöjen vähentämiseksi? Entä kuinka kohdistat päästövähennystoimenpiteet oikeisiin ja vaikuttaviin kohteisiin?\nKeskuskauppakamari tukee yrityksiä järjestämällä päästövähennyskoulutuksia\, joissa perehdytään yrityksen hiilijalanjäljen laskentaan. Koulutuksessa opit laskemaan yrityksesi hiilijalanjäljen ja saat työkalun laskennan tueksi. Kuulet myös yritysesimerkin jo tehdystä ilmastotyöstä ja saat käytännön vinkkejä päästöjen laskentaan\, vähentämiseen ja kompensointiin. Koulutuksesta saat valmiudet Keskuskauppakamarin Ilmastositoumuksen edellyttämän päästölaskennan tekemiseen. \nIlmastonmuutos on tämän hetken suurin globaali riski Maailman talousfoorumin mukaan. Tarvitsemme toimenpiteitä ilmastonmuutoksen hillitsemiseksi niin ihmisiltä\, yrityksiltä kuin valtioiltakin. Yrityksille ilmastotyöhön ryhtyminen voi tuoda kilpailuetua ja kustannussäästöjä. Kustannussäästöjä syntyy materiaali- tai lämpöhukkaa pienentämällä sekä vähentämällä energian ja polttoaineen kulutusta.\nSuomalaiset yritykset voivat olla ilmastovastuun suunnannäyttäjiä maailmassa ja tavoitteena on\, että suomalaiset yritykset ovat hiilineutraaleja vuoteen 2035 mennessä. Keskuskauppakamarin Ilmastositoumus on johtamisen ja viestinnän väline tavoitteelliseen ilmastotyöhön.\nKenellePäästövähennyskoulutukset sopivat yrityksille ja organisaatioille\, jotka haluavat perehtyä hiilijalanjäljen laskentaan ja kaipaavat työkalua laskennan tueksi. Koulutus on suunnattu ensisijaisesti hiilijalanjäljen laskentaa aloittaville henkilöille ja käytännön vastuullisuustyötä tekeville. Koulutuksesta on hyötyä myös yrityksen viestinnästä vastaaville henkilöille.\nKouluttajina toimivat AFRYn hiilijalanjälkiasiantuntijat ja Keskuskauppakamarin vastuullisuusasiantuntija Anne Vanhala.\n*****************************************************\nOhjelma ja suuntaa antava aikataulu\n10.00 Tilaisuuden avaus \nKauppakamarin puheenvuoro• Keskuskauppakamari tarjoaa yrityksille työkaluja vastuullisuustyöhön\nYrityspuheenvuoro: Ilmastotyö LähiTapiolassaSuvi Järvinen\, Senior specialist\, climate and environment\, LähiTapiola\nPäästövähennysten kautta hiilineutraaliuuteen• Päästölaskennan perusteet ja standardit- GHG Protocol -standardin käyttö hiilijalanjäljen laskennassa- Esimerkkejä tyypillisistä päästöjakaumista yrityksissä• Päästötiedon raportointi12.15–13.00 LounastaukoPäästövähennysten kautta hiilineutraaliuuteen• Päästöjen vähentämisen mahdollisuudet yrityksissä• Miten luodaan tiekartta hiilineutraalisuuteen?• Päästöjen kompensointi osana hiilineutraalisuuttaPäästöjen laskenta käytännössä• Keskuskauppakamarin hiilijalanjälkilaskurin esittely\nn. 14.00 Pienryhmätyöskentely• Mahdollisuus keskustella oman yrityksen päästöistä\, päästörajauksesta ja tilanteesta hiilijalanjälkiasiantuntijoiden kanssan. 15.00 Pienryhmätyöskentelyn yhteenveto ja tilaisuuden päätös\nTilaisuus päättyy klo 16 mennessä.\n*****************************************************\nIlmoittautuminen 6.11.2023 mennessä.\nKoulutukseen liittyy lyhyt ennakkokysely\, jonka täytät ilmoittautumisen yhteydessä. Yrityksesi vastaukset huomioidaan koulutuksen sisällössä.\nLisätietoja: Sisältöön liittyvissä kysymyksissä voit olla yhteydessä vastuullisuusasiantuntija Anne Vanhalaan\, anne.vanhala@chamber.fi\, puh. 050 339 1625\nJärjestelyihin liittyvissä kysymyksissä voit olla yhteydessä tapahtumatuottaja Anne Pakkaseen\, anne.pakkanen@chamber.fi\, puh. 045 898 6972.\nPeruutusehdot: Kuluton peruutus on mahdollinen viimeistään seitsemän vuorokautta ennen tilaisuutta. Mikäli peruutus tapahtuu myöhemmin kuin seitsemän vuorokautta ennen tilaisuutta\, veloitetaan koko koulutuksen hinta.\nPidätämme oikeuden muutoksiin.
LOCATION:Verkkokoulutus
URL:http://tapahtumat.kauppakamari.fi/paastovahennys_08112023
END:VEVENT
END:VCALENDAR
