BEGIN:VCALENDAR
METHOD:PUBLISH
VERSION:2.0
PRODID:-//Eventilla iCal Syndication//NONSGML Liana//EN
BEGIN:VEVENT
UID:j1A3D@eventilla.com
DTSTAMP:20211215T123000Z
DTSTART:20211215T123000Z
DTEND:20211215T140000Z
SUMMARY:Puoluejohtajien tentti
DESCRIPTION:Olet lämpimästi tervetullut Keskuskauppakamarin järjestämään puoluejohtajien tenttiin keskiviikkona 15.12.2021. Puoluejohtajien tenttiä voit seurata myös etäyhteyden välityksellä. Pyydämme huomioimaan\, että paikan päällä paikkoja on rajoitetusti ja paikat täytetään ilmoittautumisjärjestyksessä.\nOhjelma Marina Congress Centerissä: \nklo 14.30 - 15.00 Glögitarjoiluklo 15.00 - 16.00 Puoluejohtajien tentti\nKeskustelemassa: Keskustan puheenjohtaja Annika SaarikkoKokoomuksen puheenjohtaja Petteri OrpoPerussuomalaisten puheenjohtaja Riikka PurraVihreiden puheenjohtajan sijainen Iiris SuomelaKeskustelua vetää toimittaja Timo Haapala.\nSeuraa meitä Twitterissä @K3FIN #puheenjohtajatentti\nOSALLISTU TURVALLISESTI\nPaikan päällä osallistuvilta edellytämme\, että koronapassin ehdot täyttyvät. Koronapassin edellytyksenä on täysi rokotesarja\, 72 tunnin sisällä saatu negatiivinen koronatestitulos tai todistus alle kuusi kuukautta sitten sairastetusta koronataudista.\nVarauduthan koronapassin esittämiseen etukäteen joko tallentamalla passista kuvakaappauksen puhelimeesi tai ottamalla mukaan tulostetun version passista. Otathan mukaan myös henkilöllisyystodistuksesi. Koronapassina toimii EU:n koronatodistus. Tallenna tai tulosta todistus itsellesi Omakannasta osoitteesta https://www.kanta.fi/koronapassi. Keskuskauppakamari ei kerää eikä ylläpidä tilaisuuksissaan rekisteriä koronapassia käyttäneistä ihmisistä.\nSEURAAMME TAPAHTUMIEMME HIILIJALANJÄLKEÄ\nKeskuskauppakamarin Ilmastositoumuksen mukaisesti olemme sitoutuneet tavoittelemaan hiilineutraaliutta vuoteen 2035 mennessä. Seuraamme tapahtumiemme hiilijalanjälkeä\, pyrimme vähentämään päästöjä ja kompensoimme tapahtumasta aiheutuneet päästöt. Tämän vuoksi kysymme sinulta ilmoittautumisen yhteydessä\, kuinka saavut tapahtumaan. Autathan meitä tekemään hiilijalanjäljestä mahdollisimman pienen käyttämällä mahdollisuuksien mukaan julkisia liikennevälineitä.
LOCATION:Marina Congress Center\, Katajanokanlaituri 6\, 00160\, Helsinki
URL:http://tapahtumat.kauppakamari.fi/puoluejohtajatentti_151221
END:VEVENT
END:VCALENDAR
