BEGIN:VCALENDAR
METHOD:PUBLISH
VERSION:2.0
PRODID:-//Eventilla iCal Syndication//NONSGML Liana//EN
BEGIN:VEVENT
UID:xP60B@eventilla.com
DTSTAMP:20211201T110000Z
DTSTART:20211201T110000Z
DTEND:20211201T130000Z
SUMMARY:Whistleblowing-direktiivi ja ilmoituskanavat -verkkokoulutus
DESCRIPTION:Rakennusteollisuus RT ja Keskuskauppakamari järjestävät Rakennusteollisuus RT ry:n jäsenyrityksille suunnatun\nWhistleblowing-direktiivi ja ilmoituskanavat -verkkokoulutuksen keskiviikkona 1.12.2021 klo 13.00 - 15.00\nKoulutus järjestetään Teams-verkkotapahtumana.\nKoulutuksen ohjelma: \nEU:n Whistleblower-direktiivi ja tulevan kansallisen lainsäädännön vaatimuksetJuristiharjoittelija Liisa Salmela\, Rakennusteollisuus RT/Talonrakennusteollisuus ry\nIlmoituskanavan perustaminen ja ilmoitusten käsittelyJohtaja\, vastuullisuus ja itsesääntely\, Stina Wikberg\, Keskuskauppakamari \nEsimerkki ilmoituskanavaratkaisusta ja ilmoituskanavan tietoturva ja tietosuojaPalvelujohtaja Mari Hakkarainen\, Keskuskauppakamari\nLisäksi aikaa on varattu osallistujien kysymyksille ja kommenteille sekä vapaalle keskustelulle. Osallistujien kysymyksiin on em. asiantuntijoiden lisäksi vastaamassa myös Keskuskauppakamarin yhtiö- ja arvopaperimarkkinaoikeuden johtava asiantuntija Ville Kajala.\nKouluttajat: \nLiisa Salmela on toiminut viestintäpäällikkönä Skanska Oy:n eettisessä komiteassa lähes 10 vuoden ajan ja ollut mukana toteuttamassa Whistleblowing-kanavan käyttöönottoa Skanskan Suomen-toimintojen osalta. Lisäksi hänellä on pitkä kokemus tietosuojakysymyksistä. Tällä hetkellä hän on juristiharjoittelijana Talonrakennusteollisuus ry:ssä.\nStina Wikberg on Keskuskauppakamarin itsesääntelystä ja vastuullisuudesta vastaava johtaja. Hänellä on laaja kokemus juridisten sisältöjen\, palveluiden tuotteistamisen ja oikeudellisen muotoilun tehtävistä. \nMari Hakkarainen toimii Keskuskauppakamarin palvelujohtajana ja vastaa Keskuskauppakamarin Ilmoituskanava-palvelun myynnistä ja asiakaspalvelusta. \nVille Kajala on Keskuskauppakamarin yhtiö- ja arvopaperimarkkinaoikeuden johtava asiantuntija\, lisäksi hän toimii myös Oikeusministeriön asettaman Whistleblowing-direktiivin täytäntöönpanoa valmistelevan työryhmän jäsenenä.\n \nVerkkokoulutus on Rakennusteollisuus RT ry:n jäsenyritysten osallistujille maksuton\, mutta edellyttää ennakkoilmoittautumista. Osallistumislinkki toimitetaan ilmoittautuneille koulutusta edeltävänä päivänä. 
LOCATION:Keskuskauppakamari, toteutetaan Teams-verkkotapahtumana\, Suomi
URL:http://tapahtumat.kauppakamari.fi/whistleblowing-ilmoituskanavat_011221
END:VEVENT
END:VCALENDAR
